BEGIN:VCALENDAR
VERSION:2.0
PRODID:-//MIBA - ECPv5.14.0.2//NONSGML v1.0//EN
CALSCALE:GREGORIAN
METHOD:PUBLISH
X-WR-CALNAME:MIBA
X-ORIGINAL-URL:https://mibassociation.sitened.com
X-WR-CALDESC:Events for MIBA
REFRESH-INTERVAL;VALUE=DURATION:PT1H
X-Robots-Tag:noindex
X-PUBLISHED-TTL:PT1H
BEGIN:VTIMEZONE
TZID:UTC
BEGIN:STANDARD
TZOFFSETFROM:+0000
TZOFFSETTO:+0000
TZNAME:UTC
DTSTART:20170101T000000
END:STANDARD
END:VTIMEZONE
BEGIN:VEVENT
DTSTART;TZID=UTC:20171122T170000
DTEND;TZID=UTC:20171122T210000
DTSTAMP:20260425T151756
CREATED:20171107T043900Z
LAST-MODIFIED:20220110T063807Z
UID:848-1511370000-1511384400@mibassociation.sitened.com
SUMMARY:VIVID - Mock Assessment Centre
DESCRIPTION:See mibassociation.sitened.com/vivid for more information!\nMore and more businesses worldwide are diversifying their hiring process to include assessment centers where a variety of personal traits will be tested and compared with other job seekers. Merely making a good impression during a face to face interview is not enough. That’s why on November 22nd in the IC building from 5pm to 9pm\, MIBA is hosting its very first mock assessment center event\, VIVID. For only 5 dollars\, management students can experience what it’s truly like to go through this hiring process. In the 4 hours\, you will partake in presentations\, interviews and logic testing. Not only will you become familiar with the recruitment process\, you will also have the opportunity to get your resume critiqued and gain valuable insight from notable speakers on this topic. We will finish the evening with a short networking session where you can connect with the speakers on a more personal level. Gain knowledge\, grow your confidence and make meaningful connections in this one of a kind event that will allow you to stand out from the crowd and become – VIVID! \nSign up now!
URL:https://mibassociation.sitened.com/event/vivid-mock-assessment-centre
ATTACH;FMTTYPE=image/png:https://mibassociation.sitened.com/wp-content/uploads/2017/11/vivid-stamp-orange-1.png
END:VEVENT
END:VCALENDAR